BEGIN:VCALENDAR
VERSION:2.0
PRODID:-//gocalamba - ECPv6.15.16//NONSGML v1.0//EN
CALSCALE:GREGORIAN
METHOD:PUBLISH
X-ORIGINAL-URL:https://gocalamba.online
X-WR-CALDESC:Events for gocalamba
REFRESH-INTERVAL;VALUE=DURATION:PT1H
X-Robots-Tag:noindex
X-PUBLISHED-TTL:PT1H
BEGIN:VTIMEZONE
TZID:Asia/Singapore
BEGIN:STANDARD
TZOFFSETFROM:+0800
TZOFFSETTO:+0800
TZNAME:+08
DTSTART:20250101T000000
END:STANDARD
END:VTIMEZONE
BEGIN:VEVENT
DTSTART;TZID=Asia/Singapore:20260214T000000
DTEND;TZID=Asia/Singapore:20260214T235959
DTSTAMP:20260420T024703
CREATED:20260114T130454Z
LAST-MODIFIED:20260114T232415Z
UID:31-1771027200-1771113599@gocalamba.online
SUMMARY:Araw ng Calamba
DESCRIPTION:Ang Araw ng Calamba usa ka espesyal nga selebrasyon nga nagpasidungog sa kasaysayan\, kultura\, ug panaghiusa sa katawhan sa munisipyo. Maglakip kini og nagkalain-laing kalihokan\, pasundayag\, ug kapistahan nga maghatag kalipay ug garbo sa tanang taga-Calamba ug mga bisita.
URL:https://gocalamba.online/event-calendar/araw-ng-calamba/
ATTACH;FMTTYPE=image/jpeg:https://gocalamba.online/wp-content/uploads/2026/01/araw-ng-calamba.jpg
ORGANIZER;CN="Admin Organizer":MAILTO:dickensallinone@gmail.com
END:VEVENT
END:VCALENDAR